BEGIN:VCALENDAR
VERSION:1.0
PRODID:Open2CKalenderExportV11
BEGIN:VEVENT
DTSTAMP:20190130T081035Z
DTSTART:20190726T000000Z
DTEND:20190726T000000Z
CATEGORIES:Vereine
SUMMARY:Jakob Weishäupl Gedächtnistunier
DESCRIPTION: | Organisator   EC Teisnach
LOCATION:Stocksporthalle
UID:a635a103b2e5fdf9d31244014a2196e0-66f89eef602494ed840c4536dc676a86
PRIORITY:3
END:VEVENT
END:VCALENDAR
