BEGIN:VCALENDAR
VERSION:1.0
PRODID:Open2CKalenderExportV11
BEGIN:VEVENT
DTSTAMP:20191125T075650Z
DTSTART:20201212T193000Z
DTEND:20201212T193000Z
CATEGORIES:Vereine
SUMMARY:Christbaumversteigerung
DESCRIPTION: | Organisator   Krieger- und Reservistenverein Kaikenried e. V.
LOCATION:Gasthaus Danzer
UID:d83c9bb80b3bfc88ed9706dc1d8839a9-9c96ab65c0e6a371702f461479215e10
PRIORITY:3
END:VEVENT
END:VCALENDAR
