BEGIN:VCALENDAR
VERSION:2.0
PRODID:< http://www.open2c.de/ >
METHOD:PUBLISH
X-PUBLISHED-TTL:PT12H
BEGIN:VEVENT
CREATED:20190117T134641Z
LAST-MODIFIED:20190130T081035Z
ORGANIZER;CN="EC Teisnach"
DTSTAMP:20260422T224243Z
DTSTART;VALUE=DATE:20190726
CATEGORIES:Vereine
SUMMARY:Jakob Weishäupl Gedächtnistunier
DESCRIPTION:Organisator EC Teisnach
LOCATION:Stocksporthalle
UID:66fcb86f3f9388947c02217586139f14@249206420ecf055a101c280186f12e75
END:VEVENT
END:VCALENDAR