BEGIN:VCALENDAR
VERSION:2.0
PRODID:< http://www.open2c.de/ >
METHOD:PUBLISH
X-PUBLISHED-TTL:PT12H
BEGIN:VEVENT
CREATED:20191125T075549Z
LAST-MODIFIED:20191125T075650Z
ORGANIZER;CN="Krieger- und Reservistenverein Kaikenried e. V."
DTSTAMP:20260425T203753Z
DTSTART;VALUE=DATE:20201212
CATEGORIES:Vereine
SUMMARY:Christbaumversteigerung
DESCRIPTION:Organisator Krieger- und Reservistenverein Kaikenried e. V.
LOCATION:Gasthaus Danzer
UID:aad71b63d0238172c4c844caaf04f548@249206420ecf055a101c280186f12e75
END:VEVENT
END:VCALENDAR